BEGIN:VCALENDAR
VERSION:2.0
PRODID:-//Central Baptist Church - ECPv6.15.20//NONSGML v1.0//EN
CALSCALE:GREGORIAN
METHOD:PUBLISH
X-ORIGINAL-URL:https://centralbaptistkingsport.com
X-WR-CALDESC:Events for Central Baptist Church
REFRESH-INTERVAL;VALUE=DURATION:PT1H
X-Robots-Tag:noindex
X-PUBLISHED-TTL:PT1H
BEGIN:VTIMEZONE
TZID:UTC
BEGIN:STANDARD
TZOFFSETFROM:+0000
TZOFFSETTO:+0000
TZNAME:UTC
DTSTART:20160101T000000
END:STANDARD
END:VTIMEZONE
BEGIN:VEVENT
DTSTART;TZID=UTC:20170821T183000
DTEND;TZID=UTC:20170821T193000
DTSTAMP:20260423T223605
CREATED:20170811T145843Z
LAST-MODIFIED:20170811T145843Z
UID:8868-1503340200-1503343800@centralbaptistkingsport.com
SUMMARY:Budget & Finance Committee Meeting
DESCRIPTION:
URL:https://centralbaptistkingsport.com/event/budget-finance-committee-meeting/
LOCATION:Central Baptist Church\, 301 Carver Street\, Kingsport\, TN\, 37660\, United States
CATEGORIES:Leadership
END:VEVENT
BEGIN:VEVENT
DTSTART;TZID=UTC:20170828T183000
DTEND;TZID=UTC:20170828T193000
DTSTAMP:20260423T223605
CREATED:20170811T145621Z
LAST-MODIFIED:20170811T145621Z
UID:8844-1503945000-1503948600@centralbaptistkingsport.com
SUMMARY:AMC Meeting
DESCRIPTION:
URL:https://centralbaptistkingsport.com/event/amc-meeting/
LOCATION:Central Baptist Church\, 301 Carver Street\, Kingsport\, TN\, 37660\, United States
CATEGORIES:Leadership
END:VEVENT
BEGIN:VEVENT
DTSTART;TZID=UTC:20170821T183000
DTEND;TZID=UTC:20170821T193000
DTSTAMP:20260423T223605
CREATED:20170811T145843Z
LAST-MODIFIED:20170811T145843Z
UID:8868-1503340200-1503343800@centralbaptistkingsport.com
SUMMARY:Budget & Finance Committee Meeting
DESCRIPTION:
URL:https://centralbaptistkingsport.com/event/budget-finance-committee-meeting/
LOCATION:Central Baptist Church\, 301 Carver Street\, Kingsport\, TN\, 37660\, United States
CATEGORIES:Leadership
END:VEVENT
BEGIN:VEVENT
DTSTART;TZID=UTC:20170828T183000
DTEND;TZID=UTC:20170828T193000
DTSTAMP:20260423T223605
CREATED:20170811T145621Z
LAST-MODIFIED:20170811T145621Z
UID:8844-1503945000-1503948600@centralbaptistkingsport.com
SUMMARY:AMC Meeting
DESCRIPTION:
URL:https://centralbaptistkingsport.com/event/amc-meeting/
LOCATION:Central Baptist Church\, 301 Carver Street\, Kingsport\, TN\, 37660\, United States
CATEGORIES:Leadership
END:VEVENT
BEGIN:VEVENT
DTSTART;TZID=UTC:20170821T183000
DTEND;TZID=UTC:20170821T193000
DTSTAMP:20260423T223605
CREATED:20170811T145843Z
LAST-MODIFIED:20170811T145843Z
UID:8868-1503340200-1503343800@centralbaptistkingsport.com
SUMMARY:Budget & Finance Committee Meeting
DESCRIPTION:
URL:https://centralbaptistkingsport.com/event/budget-finance-committee-meeting/
LOCATION:Central Baptist Church\, 301 Carver Street\, Kingsport\, TN\, 37660\, United States
CATEGORIES:Leadership
END:VEVENT
BEGIN:VEVENT
DTSTART;TZID=UTC:20170828T183000
DTEND;TZID=UTC:20170828T193000
DTSTAMP:20260423T223605
CREATED:20170811T145621Z
LAST-MODIFIED:20170811T145621Z
UID:8844-1503945000-1503948600@centralbaptistkingsport.com
SUMMARY:AMC Meeting
DESCRIPTION:
URL:https://centralbaptistkingsport.com/event/amc-meeting/
LOCATION:Central Baptist Church\, 301 Carver Street\, Kingsport\, TN\, 37660\, United States
CATEGORIES:Leadership
END:VEVENT
BEGIN:VEVENT
DTSTART;TZID=UTC:20170821T183000
DTEND;TZID=UTC:20170821T193000
DTSTAMP:20260423T223605
CREATED:20170811T145843Z
LAST-MODIFIED:20170811T145843Z
UID:8868-1503340200-1503343800@centralbaptistkingsport.com
SUMMARY:Budget & Finance Committee Meeting
DESCRIPTION:
URL:https://centralbaptistkingsport.com/event/budget-finance-committee-meeting/
LOCATION:Central Baptist Church\, 301 Carver Street\, Kingsport\, TN\, 37660\, United States
CATEGORIES:Leadership
END:VEVENT
BEGIN:VEVENT
DTSTART;TZID=UTC:20170828T183000
DTEND;TZID=UTC:20170828T193000
DTSTAMP:20260423T223605
CREATED:20170811T145621Z
LAST-MODIFIED:20170811T145621Z
UID:8844-1503945000-1503948600@centralbaptistkingsport.com
SUMMARY:AMC Meeting
DESCRIPTION:
URL:https://centralbaptistkingsport.com/event/amc-meeting/
LOCATION:Central Baptist Church\, 301 Carver Street\, Kingsport\, TN\, 37660\, United States
CATEGORIES:Leadership
END:VEVENT
BEGIN:VEVENT
DTSTART;TZID=UTC:20170821T183000
DTEND;TZID=UTC:20170821T193000
DTSTAMP:20260423T223605
CREATED:20170811T145843Z
LAST-MODIFIED:20170811T145843Z
UID:8868-1503340200-1503343800@centralbaptistkingsport.com
SUMMARY:Budget & Finance Committee Meeting
DESCRIPTION:
URL:https://centralbaptistkingsport.com/event/budget-finance-committee-meeting/
LOCATION:Central Baptist Church\, 301 Carver Street\, Kingsport\, TN\, 37660\, United States
CATEGORIES:Leadership
END:VEVENT
BEGIN:VEVENT
DTSTART;TZID=UTC:20170828T183000
DTEND;TZID=UTC:20170828T193000
DTSTAMP:20260423T223605
CREATED:20170811T145621Z
LAST-MODIFIED:20170811T145621Z
UID:8844-1503945000-1503948600@centralbaptistkingsport.com
SUMMARY:AMC Meeting
DESCRIPTION:
URL:https://centralbaptistkingsport.com/event/amc-meeting/
LOCATION:Central Baptist Church\, 301 Carver Street\, Kingsport\, TN\, 37660\, United States
CATEGORIES:Leadership
END:VEVENT
BEGIN:VEVENT
DTSTART;TZID=UTC:20170821T183000
DTEND;TZID=UTC:20170821T193000
DTSTAMP:20260423T223605
CREATED:20170811T145843Z
LAST-MODIFIED:20170811T145843Z
UID:8868-1503340200-1503343800@centralbaptistkingsport.com
SUMMARY:Budget & Finance Committee Meeting
DESCRIPTION:
URL:https://centralbaptistkingsport.com/event/budget-finance-committee-meeting/
LOCATION:Central Baptist Church\, 301 Carver Street\, Kingsport\, TN\, 37660\, United States
CATEGORIES:Leadership
END:VEVENT
END:VCALENDAR