BEGIN:VCALENDAR
VERSION:2.0
PRODID:-//Central Baptist Church - ECPv6.15.20//NONSGML v1.0//EN
CALSCALE:GREGORIAN
METHOD:PUBLISH
X-WR-CALNAME:Central Baptist Church
X-ORIGINAL-URL:https://centralbaptistkingsport.com
X-WR-CALDESC:Events for Central Baptist Church
REFRESH-INTERVAL;VALUE=DURATION:PT1H
X-Robots-Tag:noindex
X-PUBLISHED-TTL:PT1H
BEGIN:VTIMEZONE
TZID:UTC
BEGIN:STANDARD
TZOFFSETFROM:+0000
TZOFFSETTO:+0000
TZNAME:UTC
DTSTART:20160101T000000
END:STANDARD
END:VTIMEZONE
BEGIN:VEVENT
DTSTART;TZID=UTC:20170904T180000
DTEND;TZID=UTC:20170904T190000
DTSTAMP:20260421T125527
CREATED:20170811T144745Z
LAST-MODIFIED:20170811T144745Z
UID:8797-1504548000-1504551600@centralbaptistkingsport.com
SUMMARY:Missions Meeting
DESCRIPTION:
URL:https://centralbaptistkingsport.com/event/missions-meeting/
LOCATION:Fellowship Hall\, 301 Carver Street\, Kingsport\, TN\, 37660\, United States
CATEGORIES:Missions Ministry
END:VEVENT
END:VCALENDAR